BEGIN:VCALENDAR
VERSION:2.0
PRODID:-//eventon.com NONSGML v1.0//EN
BEGIN:VEVENT
UID:69e9d995b1394
DTSTAMP:20260423T103429
DTSTART:20251016T120000Z
DTEND:20251016T140000Z
LOCATION:
SUMMARY:"Atelier SENS.ible"
DESCRIPTION: "Atelier SENS.ible"
END:VEVENT
END:VCALENDAR